BEGIN:VCALENDAR
VERSION:2.0
PRODID:-//ChamberMaster//Event Calendar 2.0//EN
METHOD:PUBLISH
X-PUBLISHED-TTL:P3D
REFRESH-INTERVAL:P3D
CALSCALE:GREGORIAN
BEGIN:VEVENT
DTSTART:20110201T160000Z
DTEND:20110201T190000Z
X-MICROSOFT-CDO-ALLDAYEVENT:FALSE
SUMMARY:Moab Workforce Fair
DESCRIPTION:State of Utah\n\n	Department of Workforce Services\n\n	\n\n	will hold its\n\n	\n\n	Moab Workforce Fair\n\n	\n\n	Tuesday\, February 1\, 2011\n\n	\n\n	9:00 am - 12:00 pm\n\n	\n\n	The Workforce Fair will be held in the\n\n	\n\n	Workforce Services Conference Room\n\n	\n\n	\n\n	at\n\n	\n\n	\n\n	   State of Utah\, Department of Workforce Services\n\n	457 Kane Creek Boulevard\n\n	Moab\, UT\n\n	\n\n	\n\n	_____________________________________________________________________________ \n\n	 Employers\, are you getting ready to hire? \n\n	  Let us help you access $500 for a new hire and another $1\,500 after 90 days! The Department of Workforce Services has the Back-To-Work Program that will provide an incentive to eligible employers.\n\n	If you hire someone who:\n\n	   o  Is currently receiving unemployment compensation (at least 1 full week left)\n\n	AND\n\n	  o   Is conttibuting to the support of a dependent child\n\n	OR\n\n	  o  Is 18-24 years old and unemployed\n\n	\n\n	\n\n	FOR MORE DETAILS\, call DWS at 435-719-2600\, or stop in our office at:\n\n	\n\n	457 Kane Creek Blvd.\, Moab.\n\n	\n\n	Come join us and let us match you up with a Back-To-Work eligible employee at  \n\n	BACK TO WORK HIRING\n\n	FEBRUARY 1\, 9:00 -12:00\n\n	DWS OFFICE\n\n	_____________________________________________________________________________\n\n	\n\n	For more information\, call (435) 719-2600.
X-ALT-DESC;FMTTYPE=text/html:<p style="text-align: center">\n	<span style="font-size: 18px"><em><strong>State of Utah<br />\n	Department of Workforce Services</strong><br />\n	<br />\n	<span style="font-size: 16px">will hold its<br />\n	<br />\n	<span style="font-size: 22px"><strong><u>Moab Workforce Fair</u><br />\n	<br />\n	<span style="font-size: 18px">Tuesday\, February 1\, 2011<br />\n	<br />\n	9:00 am - 12:00 pm</span></strong></span></span></em><br />\n	<br />\n	<span style="font-size: 16px"><span style="font-size: 22px"><span style="font-size: 18px"><span style="font-size: 16px">The Workforce Fair will be held in the<br />\n	<br />\n	<u><strong><span style="font-size: 18px">Workforce Services Conference Room</span></strong></u><br />\n	<br />\n	<br />\n	<span style="font-size: 18px"><span style="font-size: 16px">at<br />\n	<br />\n	<br />\n	<span style="font-size: 18px"><span _fck_bookmark="1" style="display: none">&nbsp\;</span><span _fck_bookmark="1" style="display: none">&nbsp\;</span><span _fck_bookmark="1" style="display: none">&nbsp\;</span><strong><em>State of Utah\, Department of Workforce Services</em></strong><br />\n	<span style="font-size: 14px">457 Kane Creek Boulevard<br />\n	Moab\, UT</span></span></span></span></span></span></span></span></span><br />\n	<br />\n	<br />\n	_____________________________________________________________________________&nbsp\;</p>\n<p style="text-align: center">\n	<em><span style="font-size: 18px"><b><font color="#231f20" face="Arial"><font color="#231f20" face="Arial"><font color="#231f20" face="Arial"><span _fck_bookmark="1" style="display: none">&nbsp\;</span>Employers\, are you getting ready to hire?</font></font></font></b></span></em><span style="font-size: 18px"><span style="font-size: 16px"><span style="font-size: 22px"><span style="font-size: 18px"><span style="font-size: 16px"><span style="font-size: 18px"><span style="font-size: 16px"><span style="font-size: 18px"><b><font color="#231f20" face="Arial" size="7"><font color="#231f20" face="Arial" size="7"><font color="#231f20" face="Arial" size="7"><span _fck_bookmark="1" style="display: none">&nbsp\;</span></font></font></font></b></span></span></span></span></span></span></span></span></p>\n<p align="left">\n	<span style="font-size: 14px"><font color="#231f20"><font color="#231f20"><font color="#231f20"><span _fck_bookmark="1" style="display: none">&nbsp\;</span><span _fck_bookmark="1" style="display: none">&nbsp\;</span>Let us help you access $500 for a new </font></font></font><font color="#231f20"><font color="#231f20"><font color="#231f20">hire </font></font></font><font color="#231f20"><font color="#231f20"><font color="#231f20">and another $1\,500 </font></font></font></span><span style="font-size: 14px"><font color="#231f20"><font color="#231f20"><font color="#231f20">after 90 days! The Department of Workforce Services has the Back-To-</font></font></font></span><span style="font-size: 14px"><font color="#231f20"><font color="#231f20"><font color="#231f20">Work Program that will provide an incentive to eligible </font></font></font></span><span style="font-size: 14px"><font color="#231f20"><font color="#231f20"><font color="#231f20">employers.</font></font></font></span></p>\n<p align="left">\n	<span style="font-size: 14px"><font color="#231f20"><font color="#231f20"><font color="#231f20">If you hire someone who:</font></font></font></span></p>\n<p align="left">\n	<span style="font-size: 14px"><font color="#231f20"><font color="#231f20"><font color="#231f20">&nbsp\;&nbsp\; o&nbsp\; Is currently receiving unemployment compensation (at least 1 </font></font></font><font color="#231f20"><font color="#231f20"><font color="#231f20">full </font></font></font><font color="#231f20"><font color="#231f20"><font color="#231f20">week left)</font></font></font></span></p>\n<p align="left">\n	<span style="font-size: 14px"><font color="#231f20"><font color="#231f20"><font color="#231f20">AND</font></font></font></span></p>\n<p align="left">\n	<span style="font-size: 14px"><font color="#231f20"><font color="#231f20"><font color="#231f20">&nbsp\; o&nbsp\; &nbsp\;Is conttibuting to the support of a dependent child</font></font></font></span></p>\n<p align="left">\n	<span style="font-size: 14px"><font color="#231f20"><font color="#231f20"><font color="#231f20">OR</font></font></font></span></p>\n<p align="left">\n	<span style="font-size: 14px"><font color="#231f20"><font color="#231f20"><font color="#231f20">&nbsp\; o&nbsp\; Is 18-24 years old and unemployed</font></font></font></span></p>\n<p align="left">\n	<br />\n	<br />\n	<span style="font-size: 14px"><font color="#231f20"><font color="#231f20"><font color="#231f20">FOR MORE DETAILS\, call DWS at 435-719-2600\, or stop in our office at:<br />\n	<br />\n	457 </font></font></font></span><span style="font-size: 14px"><font color="#231f20"><font color="#231f20"><font color="#231f20">Kane Creek Blvd.\, Moab.</font></font></font></span></p>\n<p align="left">\n	<br />\n	<span style="font-size: 14px"><font color="#231f20"><font color="#231f20"><font color="#231f20">Come join us and let us match you up with a Back-To-Work eligible employee at</font></font></font></span><span style="font-size: 18px"><span style="font-size: 16px"><span style="font-size: 22px"><span style="font-size: 18px"><span style="font-size: 16px"><span style="font-size: 18px"><span style="font-size: 16px"><span style="font-size: 18px"><font color="#231f20" size="2"><font color="#231f20" size="2"><font color="#231f20" size="2"><span _fck_bookmark="1" style="display: none">&nbsp\;</span><span _fck_bookmark="1" style="display: none">&nbsp\;</span></font></font></font></span></span></span></span></span></span></span></span></p>\n<p>\n	<span style="font-size: 18px"><span style="font-size: 16px"><span style="font-size: 22px"><span style="font-size: 18px"><span style="font-size: 16px"><span style="font-size: 18px"><span style="font-size: 16px"><span style="font-size: 18px"><b><font color="#231f20" face="Arial" size="4"><font color="#231f20" face="Arial" size="4"><font color="#231f20" face="Arial" size="4">BACK TO WORK HIRING<br />\n	FEBRUARY 1\, 9:00 -12:00<br />\n	DWS OFFICE</font></font></font></b></span></span></span></span></span></span></span></span></p>\n<p style="text-align: center">\n	_____________________________________________________________________________<br />\n	<br />\n	<span style="font-size: 18px"><span style="font-size: 16px"><span style="font-size: 22px"><span style="font-size: 18px"><span style="font-size: 16px"><span style="font-size: 18px"><span style="font-size: 16px"><span style="font-size: 18px"><strong><em>For more information\, call (435) 719-2600.</em></strong><span _fck_bookmark="1" style="display: none">&nbsp\;</span><span _fck_bookmark="1" style="display: none">&nbsp\;</span><span _fck_bookmark="1" style="display: none">&nbsp\;</span></span></span></span></span></span></span></span></span><br />\n	&nbsp\;</p>\n
LOCATION:State of Utah Dept of Workforce Services Conference Room 457 Kane Creek Boulevard Moab\, UT
UID:e.452.111
SEQUENCE:3
DTSTAMP:20260420T193133Z
URL:http://moabareachamber.chambermaster.com/events/details/moab-workforce-fair-02-01-2011-111
END:VEVENT

END:VCALENDAR
